BEGIN:VCALENDAR
VERSION:2.0
PRODID:-//Inštitut Zlata Pentljica - ECPv6.14.2//NONSGML v1.0//EN
CALSCALE:GREGORIAN
METHOD:PUBLISH
X-WR-CALNAME:Inštitut Zlata Pentljica
X-ORIGINAL-URL:https://zlatapentljica.si
X-WR-CALDESC:Dogodki za Inštitut Zlata Pentljica
REFRESH-INTERVAL;VALUE=DURATION:PT1H
X-Robots-Tag:noindex
X-PUBLISHED-TTL:PT1H
BEGIN:VTIMEZONE
TZID:UTC
BEGIN:STANDARD
TZOFFSETFROM:+0000
TZOFFSETTO:+0000
TZNAME:UTC
DTSTART:20260101T000000
END:STANDARD
END:VTIMEZONE
BEGIN:VEVENT
DTSTART;TZID=UTC:20260620T100000
DTEND;TZID=UTC:20260620T130000
DTSTAMP:20260424T123450
CREATED:20260422T104657Z
LAST-MODIFIED:20260422T104657Z
UID:3400-1781949600-1781960400@zlatapentljica.si
SUMMARY:Tek Zlate pentljice 2026
DESCRIPTION: 8. TRADICIONALNI TEK ZLATE PENTLJICEV inštitutu se spet pripravljamo na Tek Zlate pentljice v okviru Teka štirih mostov. Letos že osmič\, z istim namenom: da pokažemo otrokom\, ki se borijo z rakom\, da v tem niso sami in da zmorejo. Naš slogan je ponovno: »Povezujemo\, sodelujemo\, vključujemo.«Ne gre za hitrost in ne gre za kilometre. Okoli 200 metrov\, ki jih pretečemo\, je simboličnih in polnih podpore. To je dan\, ko si želimo\, da vsi otroci ne glede na ovire\, ki jih premagujejo\, sodelujejo\, so vključeni in predvsem podprti ter videni kot zmagovalci in ne kot bolniki. Da pogumno prečkajo ciljno črto in s tem dobijo moč za vse nadaljnje korake\, ki jih bodo v življenju prehodili.Kaj se bo dogajalo?20. junija ob 10. uri se vsi prijavljeni otroci z družinami zberejo pred OŠ Škofja Loka – Mesto.Tam za otroke pripravljamo mini olimpijado v družbi lisjaka Foksija. Obiskalo nas bo tudi nekaj gostov presenečenja\, ki bodo z otroci tekli. Kot vsako leto bomo ob MasterChef obroku\, kavici in prijetnem druženju poskrbeli za tisto pravo vzdušje in energijo\, ki jo zna pričarati samo Škofja Loka.Če bi želeli otroke z rakom in njihov štipendijski sklad podpreti\, nas boste našli tudi na stojnici v centru mesta.Pridite nas podpreti\, objeti in se podružiti z nami. Da bomo vse lažje organizirali\, vas prosimo\, da se prijavite do 10. junija na tej povezavi: https://forms.cloud.microsoft/e/eAHKfQdq1fAvtorica risbe na grafiki je Tanaja Vučajnk\, štipendistka našega Katrinega sklada. Hvala\, Tanaja!
URL:https://zlatapentljica.si/event/tek-zlate-pentljice-2026/
LOCATION:Škofja Loka\, Šolska ulica 1\, 4220 Škofja Loka\, Škofja Loka\, 4220\, Slovenia
ATTACH;FMTTYPE=image/jpeg:https://zlatapentljica.si/wp-content/uploads/2026/04/677727888_971412342241638_5568759387885264768_n.jpg
END:VEVENT
END:VCALENDAR